BEGIN:VCALENDAR
VERSION:2.0
PRODID:-//Tukios.com/
BEGIN:VEVENT
UID:66992f57-ba3f-4c78-b5cf-3f025b9ee5b8@www.legacyfunerals.com
DTSTAMP:20260422T224339Z
DTSTART:20260429T000000Z
DTEND:20260429T010000Z
SUMMARY:Viewing
DESCRIPTION:
URL:https://www.legacyfunerals.com/obituaries/mark-beals
LOCATION:Christian Life Church 1498 South 1700 West  Payson UT 84651
GEO:40.0200572;-111.7644937
END:VEVENT
END:VCALENDAR