BEGIN:VCALENDAR
VERSION:2.0
PRODID:-//Tukios.com/
BEGIN:VEVENT
UID:006fc192-fd66-4bd2-a9a6-cd5d82e691d1@www.legacyfunerals.com
DTSTAMP:20260422T224628Z
DTSTART:20260429T010000Z
DTEND:20260429T020000Z
SUMMARY:Celebration of Life
DESCRIPTION:
URL:https://www.legacyfunerals.com/obituaries/mark-beals
LOCATION:Christian Life Church 1498 South 1700 West  Payson UT 84651
GEO:40.0200572;-111.7644937
END:VEVENT
END:VCALENDAR